BEGIN:VCALENDAR
VERSION:2.0
PRODID:-//National Alliance of Concurrent Enrollment Partnerships - ECPv6.15.18//NONSGML v1.0//EN
CALSCALE:GREGORIAN
METHOD:PUBLISH
X-WR-CALNAME:National Alliance of Concurrent Enrollment Partnerships
X-ORIGINAL-URL:https://www.nacep.org
X-WR-CALDESC:Events for National Alliance of Concurrent Enrollment Partnerships
REFRESH-INTERVAL;VALUE=DURATION:PT1H
X-Robots-Tag:noindex
X-PUBLISHED-TTL:PT1H
BEGIN:VTIMEZONE
TZID:America/New_York
BEGIN:DAYLIGHT
TZOFFSETFROM:-0500
TZOFFSETTO:-0400
TZNAME:EDT
DTSTART:20250309T070000
END:DAYLIGHT
BEGIN:STANDARD
TZOFFSETFROM:-0400
TZOFFSETTO:-0500
TZNAME:EST
DTSTART:20251102T060000
END:STANDARD
BEGIN:DAYLIGHT
TZOFFSETFROM:-0500
TZOFFSETTO:-0400
TZNAME:EDT
DTSTART:20260308T070000
END:DAYLIGHT
BEGIN:STANDARD
TZOFFSETFROM:-0400
TZOFFSETTO:-0500
TZNAME:EST
DTSTART:20261101T060000
END:STANDARD
BEGIN:DAYLIGHT
TZOFFSETFROM:-0500
TZOFFSETTO:-0400
TZNAME:EDT
DTSTART:20270314T070000
END:DAYLIGHT
BEGIN:STANDARD
TZOFFSETFROM:-0400
TZOFFSETTO:-0500
TZNAME:EST
DTSTART:20271107T060000
END:STANDARD
END:VTIMEZONE
BEGIN:VEVENT
DTSTART;VALUE=DATE:20260407
DTEND;VALUE=DATE:20260409
DTSTAMP:20260425T231202
CREATED:20260109T173153Z
LAST-MODIFIED:20260109T174636Z
UID:10000787-1775520000-1775692799@www.nacep.org
SUMMARY:Washington Policy Seminar April 7-8 2026
DESCRIPTION:Time: 1:00PM - 2:00PM EST \nPanelist:  \n\nJenny Parks\, Deputy Director - Grantmaking Strategy Ascendium Education Philanthropy\nShari Culver Associate Dean\, Concurrent Enrollment Arapahoe Community College\nTatiana Velasco\, Senior Research Associate Community College Research Center Teachers College\, Columbia University\nModerated by John Fink\, NACEP Research Commission Chair\n\nDescription: Decades of research has documented the benefits of dual and concurrent enrollment on postsecondary outcomes and more recently researchers have examined how this jump start on a college degree influences students’ subsequent earnings in their mid-20s. Saddle up with the Research Commission as we wrangle data from Colorado and Texas on this frontier topic! \n\n	\n\n\n	\n		\n			\n							Watch Recording
URL:https://www.nacep.org/events/washington-policy-seminar-april-7-8/
CATEGORIES:Workshops
ATTACH;FMTTYPE=image/jpeg:https://www.nacep.org/wp-content/uploads/2026/01/2026WashingtonPolicy.jpg
END:VEVENT
BEGIN:VEVENT
DTSTART;TZID=America/New_York:20260415T130000
DTEND;TZID=America/New_York:20260415T140000
DTSTAMP:20260425T231202
CREATED:20251217T212357Z
LAST-MODIFIED:20260409T182736Z
UID:10000784-1776258000-1776261600@www.nacep.org
SUMMARY:Inside the NACEP Peer Review: Strategies for Strengthening Your Accreditation Application
DESCRIPTION:Time: 1:00PM - 2:00PM EST \nPanelist:  \n\nJenny Parks\, Deputy Director - Grantmaking Strategy Ascendium Education Philanthropy\nShari Culver Associate Dean\, Concurrent Enrollment Arapahoe Community College\nTatiana Velasco\, Senior Research Associate Community College Research Center Teachers College\, Columbia University\nModerated by John Fink\, NACEP Research Commission Chair\n\nDescription: Decades of research has documented the benefits of dual and concurrent enrollment on postsecondary outcomes and more recently researchers have examined how this jump start on a college degree influences students’ subsequent earnings in their mid-20s. Saddle up with the Research Commission as we wrangle data from Colorado and Texas on this frontier topic! \n\n	\n\n\n	\n		\n			\n							Watch Recording
URL:https://www.nacep.org/events/inside-the-nacep-peer-review-strategies-for-strengthening-your-accreditation-application/
CATEGORIES:Webinars
ATTACH;FMTTYPE=image/jpeg:https://www.nacep.org/wp-content/uploads/2024/02/Webinars1Website.jpg
END:VEVENT
BEGIN:VEVENT
DTSTART;TZID=America/New_York:20260422T130000
DTEND;TZID=America/New_York:20260422T140000
DTSTAMP:20260425T231202
CREATED:20260324T212330Z
LAST-MODIFIED:20260423T155103Z
UID:10000790-1776862800-1776866400@www.nacep.org
SUMMARY:Research Roundup: Inside the Classroom: The Unique Opportunities and Challenges of Teaching Dual Enrollment Courses
DESCRIPTION:Time: 1:00PM - 2:00PM EST \nPanelist:  \n\nJenny Parks\, Deputy Director - Grantmaking Strategy Ascendium Education Philanthropy\nShari Culver Associate Dean\, Concurrent Enrollment Arapahoe Community College\nTatiana Velasco\, Senior Research Associate Community College Research Center Teachers College\, Columbia University\nModerated by John Fink\, NACEP Research Commission Chair\n\nDescription: Decades of research has documented the benefits of dual and concurrent enrollment on postsecondary outcomes and more recently researchers have examined how this jump start on a college degree influences students’ subsequent earnings in their mid-20s. Saddle up with the Research Commission as we wrangle data from Colorado and Texas on this frontier topic! \n\n	\n\n\n	\n		\n			\n							Watch Recording
URL:https://www.nacep.org/events/research-roundup-inside-the-classroom-the-unique-opportunities-and-challenges-of-teaching-dual-enrollment-courses/
CATEGORIES:Webinars
ATTACH;FMTTYPE=image/png:https://www.nacep.org/wp-content/uploads/2023/01/ResearchRoundUp1.png
END:VEVENT
BEGIN:VEVENT
DTSTART;TZID=America/New_York:20260429T130000
DTEND;TZID=America/New_York:20260429T140000
DTSTAMP:20260425T231202
CREATED:20260408T171241Z
LAST-MODIFIED:20260408T173843Z
UID:10000792-1777467600-1777471200@www.nacep.org
SUMMARY:Strengthening Dual Credit at TCUs: Insights from a National Community of Practice
DESCRIPTION:Time: 1:00PM - 2:00PM EST \nPanelist:  \n\nJenny Parks\, Deputy Director - Grantmaking Strategy Ascendium Education Philanthropy\nShari Culver Associate Dean\, Concurrent Enrollment Arapahoe Community College\nTatiana Velasco\, Senior Research Associate Community College Research Center Teachers College\, Columbia University\nModerated by John Fink\, NACEP Research Commission Chair\n\nDescription: Decades of research has documented the benefits of dual and concurrent enrollment on postsecondary outcomes and more recently researchers have examined how this jump start on a college degree influences students’ subsequent earnings in their mid-20s. Saddle up with the Research Commission as we wrangle data from Colorado and Texas on this frontier topic! \n\n	\n\n\n	\n		\n			\n							Watch Recording
URL:https://www.nacep.org/events/strengthening-dual-credit-at-tcus-insights-from-a-national-community-of-practice/
CATEGORIES:Webinars
ATTACH;FMTTYPE=image/jpeg:https://www.nacep.org/wp-content/uploads/2024/02/Webinars1Website.jpg
END:VEVENT
BEGIN:VEVENT
DTSTART;TZID=America/New_York:20260513T130000
DTEND;TZID=America/New_York:20260513T140000
DTSTAMP:20260425T231202
CREATED:20260325T172935Z
LAST-MODIFIED:20260325T175746Z
UID:10000791-1778677200-1778680800@www.nacep.org
SUMMARY:DualEnroll: 7 Habits to Improve and Grow Your Dual Credit Program
DESCRIPTION:Time: 1:00PM - 2:00PM EST \nPanelist:  \n\nJenny Parks\, Deputy Director - Grantmaking Strategy Ascendium Education Philanthropy\nShari Culver Associate Dean\, Concurrent Enrollment Arapahoe Community College\nTatiana Velasco\, Senior Research Associate Community College Research Center Teachers College\, Columbia University\nModerated by John Fink\, NACEP Research Commission Chair\n\nDescription: Decades of research has documented the benefits of dual and concurrent enrollment on postsecondary outcomes and more recently researchers have examined how this jump start on a college degree influences students’ subsequent earnings in their mid-20s. Saddle up with the Research Commission as we wrangle data from Colorado and Texas on this frontier topic! \n\n	\n\n\n	\n		\n			\n							Watch Recording
URL:https://www.nacep.org/events/7-habits-to-improve-and-grow-your-dual-credit-program/
CATEGORIES:Webinars
ATTACH;FMTTYPE=image/jpeg:https://www.nacep.org/wp-content/uploads/2024/02/Webinars1Website.jpg
END:VEVENT
BEGIN:VEVENT
DTSTART;TZID=America/New_York:20260625T150000
DTEND;TZID=America/New_York:20260625T160000
DTSTAMP:20260425T231202
CREATED:20251217T210841Z
LAST-MODIFIED:20251217T213424Z
UID:10000779-1782399600-1782403200@www.nacep.org
SUMMARY:Research Rendezvous
DESCRIPTION:Time: 1:00PM - 2:00PM EST \nPanelist:  \n\nJenny Parks\, Deputy Director - Grantmaking Strategy Ascendium Education Philanthropy\nShari Culver Associate Dean\, Concurrent Enrollment Arapahoe Community College\nTatiana Velasco\, Senior Research Associate Community College Research Center Teachers College\, Columbia University\nModerated by John Fink\, NACEP Research Commission Chair\n\nDescription: Decades of research has documented the benefits of dual and concurrent enrollment on postsecondary outcomes and more recently researchers have examined how this jump start on a college degree influences students’ subsequent earnings in their mid-20s. Saddle up with the Research Commission as we wrangle data from Colorado and Texas on this frontier topic! \n\n	\n\n\n	\n		\n			\n							Watch Recording
URL:https://www.nacep.org/events/research-rendezvous-11/
CATEGORIES:Webinars
ATTACH;FMTTYPE=image/png:https://www.nacep.org/wp-content/uploads/2024/01/ResearchRendezvous2024.png
END:VEVENT
BEGIN:VEVENT
DTSTART;TZID=America/New_York:20260924T150000
DTEND;TZID=America/New_York:20260924T160000
DTSTAMP:20260425T231202
CREATED:20251217T211116Z
LAST-MODIFIED:20251217T213832Z
UID:10000780-1790262000-1790265600@www.nacep.org
SUMMARY:Research Rendezvous
DESCRIPTION:Time: 1:00PM - 2:00PM EST \nPanelist:  \n\nJenny Parks\, Deputy Director - Grantmaking Strategy Ascendium Education Philanthropy\nShari Culver Associate Dean\, Concurrent Enrollment Arapahoe Community College\nTatiana Velasco\, Senior Research Associate Community College Research Center Teachers College\, Columbia University\nModerated by John Fink\, NACEP Research Commission Chair\n\nDescription: Decades of research has documented the benefits of dual and concurrent enrollment on postsecondary outcomes and more recently researchers have examined how this jump start on a college degree influences students’ subsequent earnings in their mid-20s. Saddle up with the Research Commission as we wrangle data from Colorado and Texas on this frontier topic! \n\n	\n\n\n	\n		\n			\n							Watch Recording
URL:https://www.nacep.org/events/research-rendezvous-12/
CATEGORIES:Webinars
ATTACH;FMTTYPE=image/png:https://www.nacep.org/wp-content/uploads/2024/01/ResearchRendezvous2024.png
END:VEVENT
BEGIN:VEVENT
DTSTART;VALUE=DATE:20261018
DTEND;VALUE=DATE:20261022
DTSTAMP:20260425T231202
CREATED:20260109T174057Z
LAST-MODIFIED:20260109T174655Z
UID:10000788-1792281600-1792627199@www.nacep.org
SUMMARY:National Conference Cleveland October 18-21 2026
DESCRIPTION:Time: 1:00PM - 2:00PM EST \nPanelist:  \n\nJenny Parks\, Deputy Director - Grantmaking Strategy Ascendium Education Philanthropy\nShari Culver Associate Dean\, Concurrent Enrollment Arapahoe Community College\nTatiana Velasco\, Senior Research Associate Community College Research Center Teachers College\, Columbia University\nModerated by John Fink\, NACEP Research Commission Chair\n\nDescription: Decades of research has documented the benefits of dual and concurrent enrollment on postsecondary outcomes and more recently researchers have examined how this jump start on a college degree influences students’ subsequent earnings in their mid-20s. Saddle up with the Research Commission as we wrangle data from Colorado and Texas on this frontier topic! \n\n	\n\n\n	\n		\n			\n							Watch Recording
URL:https://www.nacep.org/events/2026-national-conference-cleveland-october-18-21/
CATEGORIES:National Conference
ATTACH;FMTTYPE=image/png:https://www.nacep.org/wp-content/uploads/2026/01/Picture1.png
END:VEVENT
BEGIN:VEVENT
DTSTART;TZID=America/New_York:20261210T150000
DTEND;TZID=America/New_York:20261210T160000
DTSTAMP:20260425T231202
CREATED:20251217T211428Z
LAST-MODIFIED:20251217T213947Z
UID:10000781-1796914800-1796918400@www.nacep.org
SUMMARY:Research Rendezvous
DESCRIPTION:Time: 1:00PM - 2:00PM EST \nPanelist:  \n\nJenny Parks\, Deputy Director - Grantmaking Strategy Ascendium Education Philanthropy\nShari Culver Associate Dean\, Concurrent Enrollment Arapahoe Community College\nTatiana Velasco\, Senior Research Associate Community College Research Center Teachers College\, Columbia University\nModerated by John Fink\, NACEP Research Commission Chair\n\nDescription: Decades of research has documented the benefits of dual and concurrent enrollment on postsecondary outcomes and more recently researchers have examined how this jump start on a college degree influences students’ subsequent earnings in their mid-20s. Saddle up with the Research Commission as we wrangle data from Colorado and Texas on this frontier topic! \n\n	\n\n\n	\n		\n			\n							Watch Recording
URL:https://www.nacep.org/events/research-rendezvous-13/
CATEGORIES:Webinars
ATTACH;FMTTYPE=image/png:https://www.nacep.org/wp-content/uploads/2024/01/ResearchRendezvous2024.png
END:VEVENT
END:VCALENDAR