BEGIN:VCALENDAR
VERSION:2.0
PRODID:-//National Alliance of Concurrent Enrollment Partnerships - ECPv6.15.18//NONSGML v1.0//EN
CALSCALE:GREGORIAN
METHOD:PUBLISH
X-WR-CALNAME:National Alliance of Concurrent Enrollment Partnerships
X-ORIGINAL-URL:https://www.nacep.org
X-WR-CALDESC:Events for National Alliance of Concurrent Enrollment Partnerships
REFRESH-INTERVAL;VALUE=DURATION:PT1H
X-Robots-Tag:noindex
X-PUBLISHED-TTL:PT1H
BEGIN:VTIMEZONE
TZID:America/New_York
BEGIN:DAYLIGHT
TZOFFSETFROM:-0500
TZOFFSETTO:-0400
TZNAME:EDT
DTSTART:20240310T070000
END:DAYLIGHT
BEGIN:STANDARD
TZOFFSETFROM:-0400
TZOFFSETTO:-0500
TZNAME:EST
DTSTART:20241103T060000
END:STANDARD
BEGIN:DAYLIGHT
TZOFFSETFROM:-0500
TZOFFSETTO:-0400
TZNAME:EDT
DTSTART:20250309T070000
END:DAYLIGHT
BEGIN:STANDARD
TZOFFSETFROM:-0400
TZOFFSETTO:-0500
TZNAME:EST
DTSTART:20251102T060000
END:STANDARD
BEGIN:DAYLIGHT
TZOFFSETFROM:-0500
TZOFFSETTO:-0400
TZNAME:EDT
DTSTART:20260308T070000
END:DAYLIGHT
BEGIN:STANDARD
TZOFFSETFROM:-0400
TZOFFSETTO:-0500
TZNAME:EST
DTSTART:20261101T060000
END:STANDARD
BEGIN:DAYLIGHT
TZOFFSETFROM:-0500
TZOFFSETTO:-0400
TZNAME:EDT
DTSTART:20270314T070000
END:DAYLIGHT
BEGIN:STANDARD
TZOFFSETFROM:-0400
TZOFFSETTO:-0500
TZNAME:EST
DTSTART:20271107T060000
END:STANDARD
END:VTIMEZONE
BEGIN:VEVENT
DTSTART;TZID=America/New_York:20250326T130000
DTEND;TZID=America/New_York:20250326T140000
DTSTAMP:20260425T231231
CREATED:20250121T171338Z
LAST-MODIFIED:20250326T185911Z
UID:10000750-1742994000-1742997600@www.nacep.org
SUMMARY:No More Guessing\, Just the Facts
DESCRIPTION:This webinar will focus on common errors identified in accreditation applications submitted by IHEs. The session will provide practical tips to help institutions take a proactive approach when preparing their applications. \n\n	\n\n\n	\n		\n			\n							Watch Recording
URL:https://www.nacep.org/events/no-more-guessing-just-the-facts/
CATEGORIES:Webinars
ATTACH;FMTTYPE=image/jpeg:https://www.nacep.org/wp-content/uploads/2023/12/WebsiteEventGraphics2024-Webinar.jpg
END:VEVENT
BEGIN:VEVENT
DTSTART;TZID=America/New_York:20250327T110000
DTEND;TZID=America/New_York:20250327T120000
DTSTAMP:20260425T231231
CREATED:20250304T180552Z
LAST-MODIFIED:20250304T180552Z
UID:10000754-1743073200-1743076800@www.nacep.org
SUMMARY:Research Rendezvous
DESCRIPTION:This webinar will focus on common errors identified in accreditation applications submitted by IHEs. The session will provide practical tips to help institutions take a proactive approach when preparing their applications. \n\n	\n\n\n	\n		\n			\n							Watch Recording
URL:https://www.nacep.org/events/research-rendezvous-march-2/2025-03-27/
CATEGORIES:Webinars
ATTACH;FMTTYPE=image/png:https://www.nacep.org/wp-content/uploads/2024/01/ResearchRendezvous2024.png
END:VEVENT
BEGIN:VEVENT
DTSTART;TZID=America/New_York:20250402T130000
DTEND;TZID=America/New_York:20250402T140000
DTSTAMP:20260425T231231
CREATED:20250317T152641Z
LAST-MODIFIED:20250402T184100Z
UID:10000761-1743598800-1743602400@www.nacep.org
SUMMARY:Developing Partnerships in CTE Pathways and Workforce Development
DESCRIPTION:This webinar will focus on common errors identified in accreditation applications submitted by IHEs. The session will provide practical tips to help institutions take a proactive approach when preparing their applications. \n\n	\n\n\n	\n		\n			\n							Watch Recording
URL:https://www.nacep.org/events/building-career-pathways-dual-enrollment-success-in-cte/
CATEGORIES:Webinars
ATTACH;FMTTYPE=image/jpeg:https://www.nacep.org/wp-content/uploads/2023/12/WebsiteEventGraphics2024-Webinar.jpg
END:VEVENT
BEGIN:VEVENT
DTSTART;TZID=America/New_York:20250409T130000
DTEND;TZID=America/New_York:20250409T140000
DTSTAMP:20260425T231231
CREATED:20250310T160713Z
LAST-MODIFIED:20250409T182256Z
UID:10000759-1744203600-1744207200@www.nacep.org
SUMMARY:Research RoundUp
DESCRIPTION:This webinar will focus on common errors identified in accreditation applications submitted by IHEs. The session will provide practical tips to help institutions take a proactive approach when preparing their applications. \n\n	\n\n\n	\n		\n			\n							Watch Recording
URL:https://www.nacep.org/events/research-roundup-2/
CATEGORIES:Webinars
ATTACH;FMTTYPE=image/png:https://www.nacep.org/wp-content/uploads/2023/01/ResearchRoundUp1.png
END:VEVENT
BEGIN:VEVENT
DTSTART;TZID=America/New_York:20250423T140000
DTEND;TZID=America/New_York:20250423T151500
DTSTAMP:20260425T231231
CREATED:20250317T151236Z
LAST-MODIFIED:20250429T163449Z
UID:10000760-1745416800-1745421300@www.nacep.org
SUMMARY:How Can Artificial Intelligence (AI) be a Useful Tool When Working with Dual Enrollment Students
DESCRIPTION:This webinar will focus on common errors identified in accreditation applications submitted by IHEs. The session will provide practical tips to help institutions take a proactive approach when preparing their applications. \n\n	\n\n\n	\n		\n			\n							Watch Recording
URL:https://www.nacep.org/events/using-ai-with-dual-enrollment-students/
CATEGORIES:Webinars
ATTACH;FMTTYPE=image/jpeg:https://www.nacep.org/wp-content/uploads/2023/12/WebsiteEventGraphics2024-Webinar.jpg
END:VEVENT
BEGIN:VEVENT
DTSTART;TZID=America/New_York:20250430T130000
DTEND;TZID=America/New_York:20250430T140000
DTSTAMP:20260425T231231
CREATED:20250415T160348Z
LAST-MODIFIED:20250501T135333Z
UID:10000762-1746018000-1746021600@www.nacep.org
SUMMARY:Jumpstarting Cyber Futures: Inside the Governors Cyber Academy at Dakota State University
DESCRIPTION:This webinar will focus on common errors identified in accreditation applications submitted by IHEs. The session will provide practical tips to help institutions take a proactive approach when preparing their applications. \n\n	\n\n\n	\n		\n			\n							Watch Recording
URL:https://www.nacep.org/events/jumpstarting-cyber-futures-inside-the-governors-cyber-academy-at-dakota-state-university/
CATEGORIES:Webinars
ATTACH;FMTTYPE=image/jpeg:https://www.nacep.org/wp-content/uploads/2023/12/WebsiteEventGraphics2024-Webinar.jpg
END:VEVENT
BEGIN:VEVENT
DTSTART;TZID=America/New_York:20250514T130000
DTEND;TZID=America/New_York:20250514T140000
DTSTAMP:20260425T231231
CREATED:20250205T162507Z
LAST-MODIFIED:20250514T183113Z
UID:10000752-1747227600-1747231200@www.nacep.org
SUMMARY:Investing in Equity: State Funding Models For Dual Enrollment
DESCRIPTION:This webinar will focus on common errors identified in accreditation applications submitted by IHEs. The session will provide practical tips to help institutions take a proactive approach when preparing their applications. \n\n	\n\n\n	\n		\n			\n							Watch Recording
URL:https://www.nacep.org/events/investing-in-equity-state-funding-models-for-dual-enrollment-2/
CATEGORIES:Webinars
ATTACH;FMTTYPE=image/jpeg:https://www.nacep.org/wp-content/uploads/2023/12/WebsiteEventGraphics2024-Webinar.jpg
END:VEVENT
BEGIN:VEVENT
DTSTART;TZID=America/New_York:20250521T140000
DTEND;TZID=America/New_York:20250521T150000
DTSTAMP:20260425T231231
CREATED:20250429T150300Z
LAST-MODIFIED:20250522T141123Z
UID:10000764-1747836000-1747839600@www.nacep.org
SUMMARY:Fast and Furious: 121 Days of Federal and State Policy Shifts
DESCRIPTION:This webinar will focus on common errors identified in accreditation applications submitted by IHEs. The session will provide practical tips to help institutions take a proactive approach when preparing their applications. \n\n	\n\n\n	\n		\n			\n							Watch Recording
URL:https://www.nacep.org/events/fast-and-furious-121-days-of-federal-and-state-policy-shifts/
CATEGORIES:Webinars
ATTACH;FMTTYPE=image/jpeg:https://www.nacep.org/wp-content/uploads/2023/12/WebsiteEventGraphics2024-Webinar.jpg
END:VEVENT
BEGIN:VEVENT
DTSTART;TZID=America/New_York:20250522T110000
DTEND;TZID=America/New_York:20250522T120000
DTSTAMP:20260425T231231
CREATED:20250304T180552Z
LAST-MODIFIED:20250304T180552Z
UID:10000755-1747911600-1747915200@www.nacep.org
SUMMARY:Research Rendezvous
DESCRIPTION:This webinar will focus on common errors identified in accreditation applications submitted by IHEs. The session will provide practical tips to help institutions take a proactive approach when preparing their applications. \n\n	\n\n\n	\n		\n			\n							Watch Recording
URL:https://www.nacep.org/events/research-rendezvous-march-2/2025-05-22/
CATEGORIES:Webinars
ATTACH;FMTTYPE=image/png:https://www.nacep.org/wp-content/uploads/2024/01/ResearchRendezvous2024.png
END:VEVENT
BEGIN:VEVENT
DTSTART;TZID=America/New_York:20250528T130000
DTEND;TZID=America/New_York:20250528T140000
DTSTAMP:20260425T231231
CREATED:20250513T185559Z
LAST-MODIFIED:20250528T185551Z
UID:10000765-1748437200-1748440800@www.nacep.org
SUMMARY:Step Up\, Stand Out: Elevate Your Impact as a NACEP Volunteer Leader
DESCRIPTION:This webinar will focus on common errors identified in accreditation applications submitted by IHEs. The session will provide practical tips to help institutions take a proactive approach when preparing their applications. \n\n	\n\n\n	\n		\n			\n							Watch Recording
URL:https://www.nacep.org/events/step-up-stand-out-elevate-your-impact-as-a-nacep-volunteer-leader/
CATEGORIES:Webinars
ATTACH;FMTTYPE=image/jpeg:https://www.nacep.org/wp-content/uploads/2023/12/WebsiteEventGraphics2024-Webinar.jpg
END:VEVENT
BEGIN:VEVENT
DTSTART;TZID=America/New_York:20250604T130000
DTEND;TZID=America/New_York:20250604T140000
DTSTAMP:20260425T231231
CREATED:20250421T192453Z
LAST-MODIFIED:20250605T000222Z
UID:10000763-1749042000-1749045600@www.nacep.org
SUMMARY:Data\, Dashboards\, and Tools\, Oh My! From Novice to Pro with National DE Data
DESCRIPTION:This webinar will focus on common errors identified in accreditation applications submitted by IHEs. The session will provide practical tips to help institutions take a proactive approach when preparing their applications. \n\n	\n\n\n	\n		\n			\n							Watch Recording
URL:https://www.nacep.org/events/data-dashboards-and-tools-oh-my-from-novice-to-pro-with-national-de-data/
CATEGORIES:Webinars
ATTACH;FMTTYPE=image/jpeg:https://www.nacep.org/wp-content/uploads/2023/12/WebsiteEventGraphics2024-Webinar.jpg
END:VEVENT
BEGIN:VEVENT
DTSTART;TZID=America/New_York:20250618T130000
DTEND;TZID=America/New_York:20250618T140000
DTSTAMP:20260425T231231
CREATED:20250527T180630Z
LAST-MODIFIED:20250618T202155Z
UID:10000767-1750251600-1750255200@www.nacep.org
SUMMARY:Expanding Dual Enrollment in Cities: The Opportunities\, Challenges\, and Solutions
DESCRIPTION:This webinar will focus on common errors identified in accreditation applications submitted by IHEs. The session will provide practical tips to help institutions take a proactive approach when preparing their applications. \n\n	\n\n\n	\n		\n			\n							Watch Recording
URL:https://www.nacep.org/events/expanding-dual-enrollment-in-cities-the-opportunities-challenges-and-solutions/
CATEGORIES:Webinars
ATTACH;FMTTYPE=image/jpeg:https://www.nacep.org/wp-content/uploads/2023/12/WebsiteEventGraphics2024-Webinar.jpg
END:VEVENT
BEGIN:VEVENT
DTSTART;TZID=America/New_York:20250625T130000
DTEND;TZID=America/New_York:20250625T140000
DTSTAMP:20260425T231231
CREATED:20250523T221501Z
LAST-MODIFIED:20250626T150509Z
UID:10000766-1750856400-1750860000@www.nacep.org
SUMMARY:Online\, On Purpose: Designing High-Impact Dual Enrollment Experiences in Virtual Spaces
DESCRIPTION:This webinar will focus on common errors identified in accreditation applications submitted by IHEs. The session will provide practical tips to help institutions take a proactive approach when preparing their applications. \n\n	\n\n\n	\n		\n			\n							Watch Recording
URL:https://www.nacep.org/events/online-on-purpose-designing-high-impact-dual-enrollment-experiences-in-virtual-spaces/
CATEGORIES:Webinars
ATTACH;FMTTYPE=image/jpeg:https://www.nacep.org/wp-content/uploads/2023/12/WebsiteEventGraphics2024-Webinar.jpg
END:VEVENT
BEGIN:VEVENT
DTSTART;TZID=America/New_York:20250716T130000
DTEND;TZID=America/New_York:20250716T140000
DTSTAMP:20260425T231231
CREATED:20250616T151353Z
LAST-MODIFIED:20250717T154211Z
UID:10000768-1752670800-1752674400@www.nacep.org
SUMMARY:Research Roundup: Graduate Student Showcase!
DESCRIPTION:This webinar will focus on common errors identified in accreditation applications submitted by IHEs. The session will provide practical tips to help institutions take a proactive approach when preparing their applications. \n\n	\n\n\n	\n		\n			\n							Watch Recording
URL:https://www.nacep.org/events/research-roundup-graduate-student-showcase/
CATEGORIES:Webinars
ATTACH;FMTTYPE=image/png:https://www.nacep.org/wp-content/uploads/2023/01/ResearchRoundUp1.png
END:VEVENT
BEGIN:VEVENT
DTSTART;TZID=America/New_York:20250724T110000
DTEND;TZID=America/New_York:20250724T120000
DTSTAMP:20260425T231231
CREATED:20250304T180552Z
LAST-MODIFIED:20250304T180552Z
UID:10000756-1753354800-1753358400@www.nacep.org
SUMMARY:Research Rendezvous
DESCRIPTION:This webinar will focus on common errors identified in accreditation applications submitted by IHEs. The session will provide practical tips to help institutions take a proactive approach when preparing their applications. \n\n	\n\n\n	\n		\n			\n							Watch Recording
URL:https://www.nacep.org/events/research-rendezvous-march-2/2025-07-24/
CATEGORIES:Webinars
ATTACH;FMTTYPE=image/png:https://www.nacep.org/wp-content/uploads/2024/01/ResearchRendezvous2024.png
END:VEVENT
BEGIN:VEVENT
DTSTART;TZID=America/New_York:20250910T130000
DTEND;TZID=America/New_York:20250910T140000
DTSTAMP:20260425T231231
CREATED:20250805T203940Z
LAST-MODIFIED:20250910T190236Z
UID:10000769-1757509200-1757512800@www.nacep.org
SUMMARY:Expanding Access: Dual Enrollment in Urban School Systems
DESCRIPTION:This webinar will focus on common errors identified in accreditation applications submitted by IHEs. The session will provide practical tips to help institutions take a proactive approach when preparing their applications. \n\n	\n\n\n	\n		\n			\n							Watch Recording
URL:https://www.nacep.org/events/expanding-access-dual-enrollment-in-urban-school-systems/
CATEGORIES:Webinars
ATTACH;FMTTYPE=image/jpeg:https://www.nacep.org/wp-content/uploads/2023/12/WebsiteEventGraphics2024-Webinar.jpg
END:VEVENT
BEGIN:VEVENT
DTSTART;TZID=America/New_York:20250924T130000
DTEND;TZID=America/New_York:20250924T140000
DTSTAMP:20260425T231231
CREATED:20250919T021512Z
LAST-MODIFIED:20250924T183608Z
UID:10000771-1758718800-1758722400@www.nacep.org
SUMMARY:Training Tomorrow’s DE Teachers: Online Graduate Programs & Custom Cohorts from UNO
DESCRIPTION:This webinar will focus on common errors identified in accreditation applications submitted by IHEs. The session will provide practical tips to help institutions take a proactive approach when preparing their applications. \n\n	\n\n\n	\n		\n			\n							Watch Recording
URL:https://www.nacep.org/events/training-tomorrows-de-teachers-online-graduate-programs-custom-cohorts-from-uno/
CATEGORIES:Webinars
ATTACH;FMTTYPE=image/jpeg:https://www.nacep.org/wp-content/uploads/2023/12/WebsiteEventGraphics2024-Webinar.jpg
END:VEVENT
BEGIN:VEVENT
DTSTART;TZID=America/New_York:20250925T110000
DTEND;TZID=America/New_York:20250925T120000
DTSTAMP:20260425T231231
CREATED:20250304T180552Z
LAST-MODIFIED:20250304T180552Z
UID:10000757-1758798000-1758801600@www.nacep.org
SUMMARY:Research Rendezvous
DESCRIPTION:This webinar will focus on common errors identified in accreditation applications submitted by IHEs. The session will provide practical tips to help institutions take a proactive approach when preparing their applications. \n\n	\n\n\n	\n		\n			\n							Watch Recording
URL:https://www.nacep.org/events/research-rendezvous-march-2/2025-09-25/
CATEGORIES:Webinars
ATTACH;FMTTYPE=image/png:https://www.nacep.org/wp-content/uploads/2024/01/ResearchRendezvous2024.png
END:VEVENT
BEGIN:VEVENT
DTSTART;TZID=America/New_York:20251008T130000
DTEND;TZID=America/New_York:20251008T140000
DTSTAMP:20260425T231231
CREATED:20250923T003353Z
LAST-MODIFIED:20251008T182232Z
UID:10000773-1759928400-1759932000@www.nacep.org
SUMMARY:From Students to Ambassadors: How Hunter College Elevates Dual Enrollment Experiences
DESCRIPTION:This webinar will focus on common errors identified in accreditation applications submitted by IHEs. The session will provide practical tips to help institutions take a proactive approach when preparing their applications. \n\n	\n\n\n	\n		\n			\n							Watch Recording
URL:https://www.nacep.org/events/from-students-to-ambassadors-how-hunter-college-elevates-dual-enrollment-experiences/
CATEGORIES:Webinars
ATTACH;FMTTYPE=image/jpeg:https://www.nacep.org/wp-content/uploads/2023/12/WebsiteEventGraphics2024-Webinar.jpg
END:VEVENT
BEGIN:VEVENT
DTSTART;TZID=America/New_York:20251015T130000
DTEND;TZID=America/New_York:20251015T140000
DTSTAMP:20260425T231231
CREATED:20250919T041124Z
LAST-MODIFIED:20251015T185327Z
UID:10000772-1760533200-1760536800@www.nacep.org
SUMMARY:How Equitable Dual Enrollment Affects College Success and Retention for Black\, Latine\, Low-Income\, and First-Generation Students
DESCRIPTION:This webinar will focus on common errors identified in accreditation applications submitted by IHEs. The session will provide practical tips to help institutions take a proactive approach when preparing their applications. \n\n	\n\n\n	\n		\n			\n							Watch Recording
URL:https://www.nacep.org/events/how-equitable-dual-enrollment-affects-college-success-and-retention-for-black-latine-low-income-and-first-generation-students/
CATEGORIES:Webinars
ATTACH;FMTTYPE=image/jpeg:https://www.nacep.org/wp-content/uploads/2023/12/WebsiteEventGraphics2024-Webinar.jpg
END:VEVENT
BEGIN:VEVENT
DTSTART;TZID=America/New_York:20251127T110000
DTEND;TZID=America/New_York:20251127T120000
DTSTAMP:20260425T231231
CREATED:20250304T180552Z
LAST-MODIFIED:20250304T180552Z
UID:10000758-1764241200-1764244800@www.nacep.org
SUMMARY:Research Rendezvous
DESCRIPTION:This webinar will focus on common errors identified in accreditation applications submitted by IHEs. The session will provide practical tips to help institutions take a proactive approach when preparing their applications. \n\n	\n\n\n	\n		\n			\n							Watch Recording
URL:https://www.nacep.org/events/research-rendezvous-march-2/2025-11-27/
CATEGORIES:Webinars
ATTACH;FMTTYPE=image/png:https://www.nacep.org/wp-content/uploads/2024/01/ResearchRendezvous2024.png
END:VEVENT
BEGIN:VEVENT
DTSTART;TZID=America/New_York:20251210T130000
DTEND;TZID=America/New_York:20251210T140000
DTSTAMP:20260425T231231
CREATED:20251124T140420Z
LAST-MODIFIED:20251210T205453Z
UID:10000774-1765371600-1765375200@www.nacep.org
SUMMARY:Aligning Assessment Practices: Strategies for Concurrent Enrollment Instructors & Faculty Liaisons
DESCRIPTION:This webinar will focus on common errors identified in accreditation applications submitted by IHEs. The session will provide practical tips to help institutions take a proactive approach when preparing their applications. \n\n	\n\n\n	\n		\n			\n							Watch Recording
URL:https://www.nacep.org/events/aligning-assessment-practices-strategies-for-concurrent-enrollment-instructors-faculty-liaisons/
CATEGORIES:Webinars
ATTACH;FMTTYPE=image/jpeg:https://www.nacep.org/wp-content/uploads/2024/02/Webinars1Website.jpg
END:VEVENT
BEGIN:VEVENT
DTSTART;TZID=America/New_York:20251211T110000
DTEND;TZID=America/New_York:20251211T120000
DTSTAMP:20260425T231231
CREATED:20251210T214113Z
LAST-MODIFIED:20251210T225809Z
UID:10000776-1765450800-1765454400@www.nacep.org
SUMMARY:Research Rendezvous
DESCRIPTION:This webinar will focus on common errors identified in accreditation applications submitted by IHEs. The session will provide practical tips to help institutions take a proactive approach when preparing their applications. \n\n	\n\n\n	\n		\n			\n							Watch Recording
URL:https://www.nacep.org/events/research-rendezvous-9/
CATEGORIES:Webinars
END:VEVENT
BEGIN:VEVENT
DTSTART;TZID=America/New_York:20260114T130000
DTEND;TZID=America/New_York:20260114T140000
DTSTAMP:20260425T231231
CREATED:20251202T191511Z
LAST-MODIFIED:20260114T201302Z
UID:10000775-1768395600-1768399200@www.nacep.org
SUMMARY:Early College\, Greater Earnings? Evidence from Colorado and Texas
DESCRIPTION:This webinar will focus on common errors identified in accreditation applications submitted by IHEs. The session will provide practical tips to help institutions take a proactive approach when preparing their applications. \n\n	\n\n\n	\n		\n			\n							Watch Recording
URL:https://www.nacep.org/events/early-college-greater-earnings-evidence-from-colorado-and-texas/
CATEGORIES:Webinars
ATTACH;FMTTYPE=image/jpeg:https://www.nacep.org/wp-content/uploads/2024/02/Webinars1Website.jpg
END:VEVENT
BEGIN:VEVENT
DTSTART;TZID=America/New_York:20260121T130000
DTEND;TZID=America/New_York:20260121T140000
DTSTAMP:20260425T231231
CREATED:20251217T205724Z
LAST-MODIFIED:20260121T192158Z
UID:10000777-1769000400-1769004000@www.nacep.org
SUMMARY:Evidence Management in the Accreditation Process
DESCRIPTION:This webinar will focus on common errors identified in accreditation applications submitted by IHEs. The session will provide practical tips to help institutions take a proactive approach when preparing their applications. \n\n	\n\n\n	\n		\n			\n							Watch Recording
URL:https://www.nacep.org/events/evidence-management-in-the-accreditation-process/
CATEGORIES:Webinars
ATTACH;FMTTYPE=image/jpeg:https://www.nacep.org/wp-content/uploads/2024/02/Webinars1Website.jpg
END:VEVENT
BEGIN:VEVENT
DTSTART;VALUE=DATE:20260215
DTEND;VALUE=DATE:20260218
DTSTAMP:20260425T231231
CREATED:20260108T215710Z
LAST-MODIFIED:20260108T220022Z
UID:10000785-1771113600-1771372799@www.nacep.org
SUMMARY:Summit for Dual Credit Programs February 15-17 2026
DESCRIPTION:This webinar will focus on common errors identified in accreditation applications submitted by IHEs. The session will provide practical tips to help institutions take a proactive approach when preparing their applications. \n\n	\n\n\n	\n		\n			\n							Watch Recording
URL:https://www.nacep.org/events/summit-for-dual-credit-programs-february-15-17-2026/
CATEGORIES:Regional & State Conferences
ATTACH;FMTTYPE=image/jpeg:https://www.nacep.org/wp-content/uploads/2026/01/SaveTheDate_SDCP.jpg
END:VEVENT
BEGIN:VEVENT
DTSTART;TZID=America/New_York:20260225T130000
DTEND;TZID=America/New_York:20260225T140000
DTSTAMP:20260425T231231
CREATED:20251217T211658Z
LAST-MODIFIED:20260225T205222Z
UID:10000782-1772024400-1772028000@www.nacep.org
SUMMARY:Preparing Partners for NACEP Accreditation
DESCRIPTION:This webinar will focus on common errors identified in accreditation applications submitted by IHEs. The session will provide practical tips to help institutions take a proactive approach when preparing their applications. \n\n	\n\n\n	\n		\n			\n							Watch Recording
URL:https://www.nacep.org/events/preparing-partners-for-nacep-accreditation/
CATEGORIES:Webinars
ATTACH;FMTTYPE=image/jpeg:https://www.nacep.org/wp-content/uploads/2024/02/Webinars1Website.jpg
END:VEVENT
BEGIN:VEVENT
DTSTART;VALUE=DATE:20260310
DTEND;VALUE=DATE:20260312
DTSTAMP:20260425T231232
CREATED:20260109T171334Z
LAST-MODIFIED:20260109T174606Z
UID:10000786-1773100800-1773273599@www.nacep.org
SUMMARY:Pittsburgh Accreditation Institute March 10-11 2026
DESCRIPTION:This webinar will focus on common errors identified in accreditation applications submitted by IHEs. The session will provide practical tips to help institutions take a proactive approach when preparing their applications. \n\n	\n\n\n	\n		\n			\n							Watch Recording
URL:https://www.nacep.org/events/pittsburgh-accreditation-institute-march-10-11/
CATEGORIES:Accreditation Institutes
ATTACH;FMTTYPE=image/png:https://www.nacep.org/wp-content/uploads/2026/01/Final-Pitt-AI-Save-the-date-3.png
END:VEVENT
BEGIN:VEVENT
DTSTART;TZID=America/New_York:20260318T130000
DTEND;TZID=America/New_York:20260318T140000
DTSTAMP:20260425T231232
CREATED:20251217T212045Z
LAST-MODIFIED:20260319T170724Z
UID:10000783-1773838800-1773842400@www.nacep.org
SUMMARY:Be Proactive – Tips for Accreditation Success!
DESCRIPTION:This webinar will focus on common errors identified in accreditation applications submitted by IHEs. The session will provide practical tips to help institutions take a proactive approach when preparing their applications. \n\n	\n\n\n	\n		\n			\n							Watch Recording
URL:https://www.nacep.org/events/be-proactive-tips-for-accreditation-success/
CATEGORIES:Webinars
ATTACH;FMTTYPE=image/jpeg:https://www.nacep.org/wp-content/uploads/2024/02/Webinars1Website.jpg
END:VEVENT
BEGIN:VEVENT
DTSTART;TZID=America/New_York:20260326T150000
DTEND;TZID=America/New_York:20260326T160000
DTSTAMP:20260425T231232
CREATED:20251217T210259Z
LAST-MODIFIED:20251217T213211Z
UID:10000778-1774537200-1774540800@www.nacep.org
SUMMARY:Research Rendezvous
DESCRIPTION:This webinar will focus on common errors identified in accreditation applications submitted by IHEs. The session will provide practical tips to help institutions take a proactive approach when preparing their applications. \n\n	\n\n\n	\n		\n			\n							Watch Recording
URL:https://www.nacep.org/events/research-rendezvous-10/
CATEGORIES:Webinars
ATTACH;FMTTYPE=image/png:https://www.nacep.org/wp-content/uploads/2024/01/ResearchRendezvous2024.png
END:VEVENT
END:VCALENDAR